BEGIN:VCALENDAR
PRODID:-//Græna Orkan//NONSGML v1.0//EN
VERSION:2.0
CALSCALE:GREGORIAN
METHOD:PUBLISH
X-WR-CALNAME:Græna Orkan
X-ORIGINAL-URL:https://graenaorkan.is
X-WR-CALDESC:Events for Græna Orkan
BEGIN:VEVENT
DTSTART:
DTEND:
DTSTAMP:20260420T010032
CREATED:20150512T142033
LAST-MODIFIED:20150512T142033
UID:1022@https://graenaorkan.is
SUMMARY:Umhverfisvæn lúxusbifreið
DESCRIPTION:Á bílasýningu Bílgreinasambandsins í Fífunni um liðna helgi var lúxustvinnbifreið úr S línu Mercedes Benz frumsýnd. Bíllinn er búinn þriggja lítra V6 vél sem skilar 333 hestöflum en einnig rafmótor sem bætir við 123 hö. Eldsneytiseyðsla er 2,8 lítrar fyrir hverja 100 km og útblástur einungis 65 grömm CO2 á ekinn kílómeter.    Sjá nánar í frétt mbl.is og Öskju.
LOCATION:
URL:https://graenaorkan.is/?p=1022
END:VEVENT
END:VCALENDAR