BEGIN:VCALENDAR
PRODID:-//Græna Orkan//NONSGML v1.0//EN
VERSION:2.0
CALSCALE:GREGORIAN
METHOD:PUBLISH
X-WR-CALNAME:Græna Orkan
X-ORIGINAL-URL:https://graenaorkan.is
X-WR-CALDESC:Events for Græna Orkan
BEGIN:VEVENT
DTSTART:
DTEND:
DTSTAMP:20260419T194809
CREATED:20150904T155232
LAST-MODIFIED:20150904T155232
UID:1165@https://graenaorkan.is
SUMMARY:Ráðstefna um vistvæna orkugjafa í haftengdri starfsemi
DESCRIPTION:Þann 21.-22 október næstkomandi verður haldin ráðtefna í Gautaborg um notkun vistvænna orkugjafa í haftendri startfsemi. Ráðstefnan, sem ber heitið Making Maritime Applications Greener er samstarfsverkefni Nordic Marina, Norðursiglingar og Caterpillar Propulsion. Í lok fyrri dags ráðstefnunnar verður gestum boðið að sigla hring um Gautaborgarhöfn um borð í Opal, rafknúnum seglbáti Norðursiglingar. Dagskrá lýkur 22. október með skoðunarferð um Stena Germanica, farþegaferju StenaLine sem gengur fyrir metanóli.    Opið er fyrir skráningar hér  og þar er einnig að finna dagskrána í heild sinni.    
LOCATION:
URL:https://graenaorkan.is/?p=1165
END:VEVENT
END:VCALENDAR