BEGIN:VCALENDAR
PRODID:-//Græna Orkan//NONSGML v1.0//EN
VERSION:2.0
CALSCALE:GREGORIAN
METHOD:PUBLISH
X-WR-CALNAME:Græna Orkan
X-ORIGINAL-URL:https://graenaorkan.is
X-WR-CALDESC:Events for Græna Orkan
BEGIN:VEVENT
DTSTART:
DTEND:
DTSTAMP:20260419T180341
CREATED:20151120T143357
LAST-MODIFIED:20151124T134415
UID:1221@https://graenaorkan.is
SUMMARY:Örfyrirlestrar um endurnýjanlegt innlent eldsneyti og eldsneytiseftirlit
DESCRIPTION:Græna orkan býður félögum til örfyrirlestra í Orkugarði fimmtudaginn 26. nóvember klukkan 14.    Dagskráin verður eftirfarandi:     Eftirlit OS með endurnýjanlegu eldsneyti - Ágústa Loftsdóttir, Orkustofnun   Endurnýjanlegt metanól CRI - Benedikt Stefánsson, CRI   Framtíðar íblöndun í vistvænt eldsneyti – Sigurður Eiríksson, Íslenskt eldsneyti   Dísileldsneyti úr lífrænum úrgangi – Sigurður Ingólfsson, Lífdísill   Lífdísilvörur Orkeyjar – Teitur Gunnarsson, Mannvit   Metanframleiðsla Sorpu bs. Sjálfbærasti kosturinn? – Bjarni Hjarðar, Sorpa   Vistorka – veseni breytt í verðmæti – Guðmundur H. Sigurðarson, Vistorka    Reiknað er með að hver fyrirlestur taki um 10 mínútur og tími gefist fyrir 1-2 spurningar. Í lok dagskrár verða umræður og tækifæri til frekari fyrirspurna.  Aðgangur er ókeypis en skráning til þátttöku skal berast til amk@newenergy.is.  
LOCATION:
URL:https://graenaorkan.is/?p=1221
END:VEVENT
END:VCALENDAR