BEGIN:VCALENDAR
PRODID:-//Græna Orkan//NONSGML v1.0//EN
VERSION:2.0
CALSCALE:GREGORIAN
METHOD:PUBLISH
X-WR-CALNAME:Græna Orkan
X-ORIGINAL-URL:https://graenaorkan.is
X-WR-CALDESC:Events for Græna Orkan
BEGIN:VEVENT
DTSTART:
DTEND:
DTSTAMP:20260419T180510
CREATED:20151126T092408
LAST-MODIFIED:20151126T092409
UID:1225@https://graenaorkan.is
SUMMARY:COP21: Nordic Marina fjallar um vistvæna haftengda starfsemi
DESCRIPTION:Nordic Marina, norrænt tengslanet sem vinnur að því að finna leiðir til orkuskipta í samgöngum á sjó, mun halda erindi á svæði Norrænu ráðherranefndarinnar á COP21 í París í næstu viku. Þar mun Jón Björn Skúlason fjalla um möguleika til innleiðingar vistvænna orkugjafa í skip. Sjá nánar hér.    
LOCATION:
URL:https://graenaorkan.is/?p=1225
END:VEVENT
END:VCALENDAR