BEGIN:VCALENDAR
PRODID:-//Græna Orkan//NONSGML v1.0//EN
VERSION:2.0
CALSCALE:GREGORIAN
METHOD:PUBLISH
X-WR-CALNAME:Græna Orkan
X-ORIGINAL-URL:https://graenaorkan.is
X-WR-CALDESC:Events for Græna Orkan
BEGIN:VEVENT
DTSTART:
DTEND:
DTSTAMP:20260419T180304
CREATED:20151127T095737
LAST-MODIFIED:20151126T100510
UID:1229@https://graenaorkan.is
SUMMARY:Kynning á H2020 áætlun um umhverfi, loftslagsmál og auðlindir
DESCRIPTION:Næstkomandi miðvikudag, 2. desember, verður haldin kynning á samstarfsáætlunum Evrópusambandsins um umhverfi, lofstlagsmál og auðlindir. Attilo Gambardella, verkefnisstjóri frá aðalskrifstofu áætlunarinnar í Brussel, mun kynna áætlunina. Kynningin verður haldin frá 14-16 í fundarsal á 6. hæð í Borgartúni 30. Aðgangur er ókeypis en áhugasamir eru beðnir að skrá sig til þátttöku fyrir 1. desember hér.    
LOCATION:
URL:https://graenaorkan.is/?p=1229
END:VEVENT
END:VCALENDAR