BEGIN:VCALENDAR
PRODID:-//Græna Orkan//NONSGML v1.0//EN
VERSION:2.0
CALSCALE:GREGORIAN
METHOD:PUBLISH
X-WR-CALNAME:Græna Orkan
X-ORIGINAL-URL:https://graenaorkan.is
X-WR-CALDESC:Events for Græna Orkan
BEGIN:VEVENT
DTSTART:
DTEND:
DTSTAMP:20260419T180630
CREATED:20151130T093423
LAST-MODIFIED:20151203T141927
UID:1232@https://graenaorkan.is
SUMMARY:Vel sóttir örfyrirlestrar um endurnýjanlegt innlent eldsneyti
DESCRIPTION:Græna orkan og Nordic Marina stóðu fyrir örfyrirlestrum um endurnýjanlegt innlent eldsneyti síðastliðinn fimmtudag. Um fjörutíu manns tóku þátt  og hlýddu á sex fyrirlestra:     Endurnýjanlegt eldsneyti - Ágústa Loftsdóttir, Orkustofnun   Endurnýjanlegt eldsneyti úr vetni koltvísýringi  - Benedikt Stefánsson, CRI   Framtíðar íblöndun í íslenskt eldsneyti - Sigurður Eiríksson, Íslenskt eldsneyti   Tímabundin endurvinnsla sláturúrgangs í Álfsnesi - Sigurður Ingólfsson, Lífdísill   Orkey ehf, lífdísill - Teitur Gunnarsson, Mannvit   Metanframleiðsla Sorpu, sjálfbærasti kosturinn? - Bjarni G. Hjarðar, Sorpa    Gestir voru áhugasamir og spurðu fyrirlesara fjölmargra spurninga. Græna orkan og Nordic Marina vilja koma á framfæri þakklæti til fulltrúa fyrirtækjanna sem tóku þátt og þakka gestur fyrir skemmtilegar umræður.  
LOCATION:
URL:https://graenaorkan.is/?p=1232
END:VEVENT
END:VCALENDAR