BEGIN:VCALENDAR
PRODID:-//Græna Orkan//NONSGML v1.0//EN
VERSION:2.0
CALSCALE:GREGORIAN
METHOD:PUBLISH
X-WR-CALNAME:Græna Orkan
X-ORIGINAL-URL:https://graenaorkan.is
X-WR-CALDESC:Events for Græna Orkan
BEGIN:VEVENT
DTSTART:
DTEND:
DTSTAMP:20260419T164834
CREATED:20160120T150845
LAST-MODIFIED:20160120T151538
UID:1275@https://graenaorkan.is
SUMMARY:Norðursigling tilnefnd til nýsköpunarverðlauna WTTC
DESCRIPTION:Norðursigling á Húsavík hefur nú verið tilnefnd til WTTC Tourism of Tomorrow verðlauna. Fyrir rafmagnsskútuna Opal, er Norðursigling tilnefnd fyrir að vera fyrsta fyrirtæki heims til að bjóða upp á kolefnislausar hvalaskoðunarferðir. Þróun Opals sem umhverfisvæns báts fór fram með Rensea verkefni sem fjármagnað var af Nordic Innovation og var samstarfsverkefni Norðursiglingar og Bellona, Nýsköpunarmiðstöðvar Íslands, Íslenskrar NýOrku, Naust Marine, Lakeside Excursions, Wave Propulsion, Caterpillar og Clean eMarine.    Sjá nánar í frétt Nordic Innovation og Norðursiglingar.    
LOCATION:
URL:https://graenaorkan.is/?p=1275
END:VEVENT
END:VCALENDAR