BEGIN:VCALENDAR
PRODID:-//Græna Orkan//NONSGML v1.0//EN
VERSION:2.0
CALSCALE:GREGORIAN
METHOD:PUBLISH
X-WR-CALNAME:Græna Orkan
X-ORIGINAL-URL:https://graenaorkan.is
X-WR-CALDESC:Events for Græna Orkan
BEGIN:VEVENT
DTSTART:20190213
DTEND:20190214
DTSTAMP:20260424T175717
CREATED:20190205T091729
LAST-MODIFIED:20190213T133945
UID:1844@https://graenaorkan.is
SUMMARY:13. febrúar: Hádegisfyrirlestur um vistvænar almenningssamgöngur
DESCRIPTION:[caption id="attachment_1845" align="aligncenter" width="300"] Rafmagnsstrætó til sýnis við Hörpu í maí 2018. Mynd: AMK.[/caption]    Nú líður að fyrsta hádegisfyrirlestri ársins 2019 um orkuskipti sem Orkustofnun og Græna orkan standa í sameiningu að. Að þessu sinni verða vistvænar almenningssamgöngur til umfjöllunar. Tveir fyrirlesarar munu halda stutt erindi:    Jóhannes S. Rúnarsson, framkvæmdastjóri Strætó bs  Lilja Guðríður Karlsdóttir, verkefnastjóri Borgarlínu    Sem fyrr, verður fyrirkomulagið með þeim hætti að húsið opnar klukkan 11:30 með léttum veitingum en formleg dagskrá er 12:00-13:00. Fyrirlestrarnir fara fram í Orkugarði, Grensásvegi 9 en þangað ganga strætisvagnar númer 2, 3, 6, 14, 15, og 17 og yfirbyggð hjólageymsla er á bakvið húsalengjuna, við hliðina á Frumherja.  Viðburðurinn er öllum opinn, aðgangur ókeypis og verður honum streymt. Nánari upplýsingar um fundinn má finna á Facebook viðburði.    Uppfært 13. febrúar: glærur Jóhannesar og Lilja eru nú aðgengilegar hér fyrir ofan.
LOCATION:Grensásvegur 9, Reykjavík, Iceland, 108
URL:https://graenaorkan.is/?p=1844
END:VEVENT
END:VCALENDAR