BEGIN:VCALENDAR
PRODID:-//Græna Orkan//NONSGML v1.0//EN
VERSION:2.0
CALSCALE:GREGORIAN
METHOD:PUBLISH
X-WR-CALNAME:Græna Orkan
X-ORIGINAL-URL:https://graenaorkan.is
X-WR-CALDESC:Events for Græna Orkan
BEGIN:VEVENT
DTSTART:
DTEND:
DTSTAMP:20260419T145233
CREATED:20191125T145446
LAST-MODIFIED:20191125T145446
UID:1983@https://graenaorkan.is
SUMMARY:Kynningarfundur Loftslagssjóðs 28. nóvember 2019
DESCRIPTION:Kynningarfundur Loftslagssjóðs verður haldinn í Norræna húsinu fimmtudaginn 28. nóvember kl. 12:00-13:00    Hlutverk Loftslagssjóðs er að styðja við nýsköpunarverkefni á sviði loftslagsmála og verkefni sem lúta að kynningu og fræðslu um áhrif loftslagsbreytinga. Á fundinum verða áherslur fyrir fyrstu úthlutun kynntar sem og umsóknarferli.    Dagskrá verður eftirfarandi:  - Ávarp: Guðmundur Ingi Guðbrandsson, umhverfis- og auðlindaráðherra  - Áherslur stjórnar: Hildur Knútsdóttir, formaður stjórnar  - Handbók sjóðsins, umsóknarkerfi og faglegt matsferli: Ása Guðrún Kristjánsdóttir, sérfræðingur hjá Rannís    Húsið opnar kl. 11:30 og boðið verður upp á léttan hádegisverð fyrir fundinn. Skráning fer fram hér en einnig verður streymt frá fundinum. Sjá einnig á Facebook síðu viðburðar.
LOCATION:
URL:https://graenaorkan.is/?p=1983
END:VEVENT
END:VCALENDAR