BEGIN:VCALENDAR
PRODID:-//Græna Orkan//NONSGML v1.0//EN
VERSION:2.0
CALSCALE:GREGORIAN
METHOD:PUBLISH
X-WR-CALNAME:Græna Orkan
X-ORIGINAL-URL:https://graenaorkan.is
X-WR-CALDESC:Events for Græna Orkan
BEGIN:VEVENT
DTSTART:20111018
DTEND:20111019
DTSTAMP:20260419T132713
CREATED:20100606T153703
LAST-MODIFIED:20111018T114032
UID:218@https://graenaorkan.is
SUMMARY:Vinnufundur ráðstefna
DESCRIPTION:Vinnufundurinn, ráðstefnan var haldin í Háskólinn í Reykjavík, fimmtudaginn 03. júní sl.    Í tengslum við skipan nefndar iðnaðarráðherra um Orkuskipti í samgöngum setti undirbúningshópur verkefnisins  á fót vinnufund, ráðstefnu til að fá innsýn í þau verkefni sem nú eru í gangi á Íslandi og snúa að notkun á innlendu visthæfu eldsneyti.    Fjallað var um rafbíla,  metan,  vetni, lífdísel o.fl. og í lokin voru umræður þar sem gestum gafst kostur á að koma  með spurningar og ábendingar til nefndarmanna.    Dagskrá    Eftirfarandi eru glærukynningar tengdar fundinum:    Breytingar á bílum í rafbíla, Hlynur Stefánsson, HR    Breytingar á bílum í rafbíla, Helgi Þór Ingason, HÍ    Rafbílar og innviðir, Sighvatur Lárusson 2012    Framtíðarbílar, Ivan Mladenovic    Kínverskir rafbílar, Halldór Sigurþórsson    iMIEV á Íslandi, Sigurður Kr. Björnsson, Hekla    Samtök um hreinorkubíla Hilmar Hilmarsson    Staða vetnisrafbíla og tengd verkefni, Jón Björn Skúlason, Íslensk NýOrka    Vetnisrafbílar; Hallmar Halldórs    Sætó; Ari Arnórsson, bílasmiður    Metan staða og framtíðarhorfur, Einar Vilhjálmsson    Breyingar á bensínbílum í metanbíla, Lingþór Jósepsson Vélamiðstöðin    Lífdíselframleiðsla á Íslandi, Ásgeir Ívarsson, Mannvit    Kynning á merki átaksins, iðnaðarráðherra    Carbon Recycling  International
LOCATION:Iceland
URL:https://graenaorkan.is/?p=218
END:VEVENT
END:VCALENDAR