BEGIN:VCALENDAR
PRODID:-//Græna Orkan//NONSGML v1.0//EN
VERSION:2.0
CALSCALE:GREGORIAN
METHOD:PUBLISH
X-WR-CALNAME:Græna Orkan
X-ORIGINAL-URL:https://graenaorkan.is
X-WR-CALDESC:Events for Græna Orkan
BEGIN:VEVENT
DTSTART:20210908
DTEND:20210909
DTSTAMP:20260424T180015
CREATED:20210907T104710
LAST-MODIFIED:20211005T102943
UID:2200@https://graenaorkan.is
SUMMARY:Viðburður 30. september: Orkuskipti á flugvöllum
DESCRIPTION:     Þann 30. september 2021 stóð Græna orkan í samstarfi við Isavia og Verkís fyrir vefviðburði undir yfirskriftinni orkuskipti á flugvöllum. Framsögumenn fundarins voru eftirfarandi:    • Olav Mosvold Larsen, framkvæmdastjóri Avinor Carbon Reduction Programme    • Hrönn Ingólfsdóttir, forstöðumaður stefnumótunar og sjálfbærni Isavia    • Þórður Þorsteinsson, rafmagnstæknifræðingur Verkís    Fundarstjóri var Gunnar Valur Sveinsson, stjórnarmaður Grænu Orkunnar og verkefnastjóri hjá Samtökmu ferðaþjónustunnar.    Hér má sjá upptöku af fundinum.     https://www.youtube.com/watch?v=ieSLq6g2MlE  
LOCATION:
URL:https://graenaorkan.is/?p=2200
END:VEVENT
END:VCALENDAR