BEGIN:VCALENDAR
PRODID:-//Græna Orkan//NONSGML v1.0//EN
VERSION:2.0
CALSCALE:GREGORIAN
METHOD:PUBLISH
X-WR-CALNAME:Græna Orkan
X-ORIGINAL-URL:https://graenaorkan.is
X-WR-CALDESC:Events for Græna Orkan
BEGIN:VEVENT
DTSTART:20140827
DTEND:20140830
DTSTAMP:20260420T132321
CREATED:20140416T093257
LAST-MODIFIED:20140516T111152
UID:692@https://graenaorkan.is
SUMMARY:Nordic Biogas Conference
DESCRIPTION:Ráðstefnan Nordic Biogas Conference fer fram dagana 27. - 29. ágúst í Reykjavík.    Frekari upplýsingar má finna á heimasíðu ráðstefnunnar www.nordicbiogas.com     SORPA er gestgjafi ráðstefnunnar að þessu sinni en samstarfsaðilar eru:    SGC, Svens Gasteknisk Centre, Svíþjóð    Avfall Norge, Noregi    Branchföreningen för Biogas, Danmörk
LOCATION:Reykjavík, Iceland
URL:https://graenaorkan.is/?p=692
END:VEVENT
END:VCALENDAR