BEGIN:VCALENDAR
PRODID:-//Græna Orkan//NONSGML v1.0//EN
VERSION:2.0
CALSCALE:GREGORIAN
METHOD:PUBLISH
X-WR-CALNAME:Græna Orkan
X-ORIGINAL-URL:https://graenaorkan.is
X-WR-CALDESC:Events for Græna Orkan
BEGIN:VEVENT
DTSTART:
DTEND:
DTSTAMP:20260420T061300
CREATED:20150114T113911
LAST-MODIFIED:20150114T144555
UID:864@https://graenaorkan.is
SUMMARY:Kynningardagur Smart, Green and Integrated Transport Challenge
DESCRIPTION:Stjórnarsvið rannsókna og nýsköpunar og stjórnarsvið samgöngu- og flutningamála Evrópusambandsins standa fyrir kynningardegi Smart, Green and Integrated Transport Challenge þann 2. febrúar næstkomandi. Þar gefst áhugasömum tækifæri til að kynna sér auglýsingar eftir tillögum fyrir Smart, Green and Integrated Transport Challenge. Verkefnið, sem heyrir undir Horizon 2020, rammaáætlun ESB um rannsóknir og nýsköpun, miðar að því að auka samkeppnishæfni evrópska samgönguiðnaðarins og þróa samgöngukerfi sem nýtir auðlindir skynsamlega og þjónar bæði hagsmunum almennings og samfélagsins í heild á öruggan og umhverfisvænan hátt.    Nánari upplýsingar um kynninguna og skráningu má finna hér.    Fyrir áhugasama sem ekki sjá sér fært að taka þátt verður helstu kynningum streymt beint á heimasíðu verkefnisins.
LOCATION:
URL:https://graenaorkan.is/?p=864
END:VEVENT
END:VCALENDAR