BEGIN:VCALENDAR
PRODID:-//Græna Orkan//NONSGML v1.0//EN
VERSION:2.0
CALSCALE:GREGORIAN
METHOD:PUBLISH
X-WR-CALNAME:Græna Orkan
X-ORIGINAL-URL:https://graenaorkan.is
X-WR-CALDESC:Events for Græna Orkan
BEGIN:VEVENT
DTSTART:
DTEND:
DTSTAMP:20260420T043847
CREATED:20150213T134435
LAST-MODIFIED:20150213T134715
UID:897@https://graenaorkan.is
SUMMARY:Umferðar- og samgönguþing í Reykjavík 19. febrúar
DESCRIPTION:Umferðar- og samgönguþing verða haldin í Hörpu fimmtudaginn 19. febrúar næstkomandi. Umferðarþingið stendur frá klukkan 9 til 12:15 en samgönguþingið frá klukkan 13:15 til 17. Þingin eru skipulögð af innanríkisráðuneytinu, samgönguráði og Samgöngustofu.    Sjá nánari umfjöllun og dagskrá hér, og skráningu hér.
LOCATION:
URL:https://graenaorkan.is/?p=897
END:VEVENT
END:VCALENDAR