BEGIN:VCALENDAR
PRODID:-//Græna Orkan//NONSGML v1.0//EN
VERSION:2.0
CALSCALE:GREGORIAN
METHOD:PUBLISH
X-WR-CALNAME:Græna Orkan
X-ORIGINAL-URL:https://graenaorkan.is
X-WR-CALDESC:Events for Græna Orkan
BEGIN:VEVENT
DTSTART:
DTEND:
DTSTAMP:20260420T043134
CREATED:20150305T095500
LAST-MODIFIED:20150306T082852
UID:927@https://graenaorkan.is
SUMMARY:Áhugaverð erindi á örfyrirlestrum Grænu orkunnar
DESCRIPTION:Fimmtudaginn 26. febrúar stóð Græna orkan, í samstarfi við Hafið, Nordic Marina og Stofnun Sæmundar fróða fyrir örfyrirlestrum um borð í varðskipinu Þór. Gestir hlýddu á fjölbreytt og áhugaverð erindi tengd vistvænni haftengdri starfsemi og almenn ánægja með vinnustofuna. Landhelgisgæslan, Nordic MARINA, RENSEA, CRI, EFLA, Hafið og ARK kynntu verkefni á sínum vegum.    Við þökkum þátttakendum og gestum fyrir komuna og Landhelgisgæslunni sérstaklega fyrir að bjóða varðskipið til afnota sem vettvang vinnustofunnar.    &nbsp;
LOCATION:
URL:https://graenaorkan.is/?p=927
END:VEVENT
END:VCALENDAR